BEGIN:VCALENDAR
VERSION:2.0
PRODID:-//https://ryanhillermusic.com///NONSGML kigkonsult.se iCalcreator 2.10.15//
METHOD:PUBLISH
BEGIN:VEVENT
UID:20260419T194131PDT-8001pMZR39@https://ryanhillermusic.com/
DTSTAMP:20260420T024131Z
DESCRIPTION: https://ryanhillermusic.com/tour/event/109-morgan-run
DTSTART:20191220T020000Z
DTEND:20191220T043000Z
LOCATION:Morgan Run (5690 Cancha de Golf\, Rancho Santa Fe\, CA 92091\, USA
 )
SUMMARY:Morgan Run
URL:https://ryanhillermusic.com/tour/event/109-morgan-run
END:VEVENT
END:VCALENDAR
