BEGIN:VCALENDAR
VERSION:2.0
PRODID:-//https://ryanhillermusic.com///NONSGML kigkonsult.se iCalcreator 2.10.15//
METHOD:PUBLISH
BEGIN:VEVENT
UID:20260421T102541PDT-6849gU9Vpo@https://ryanhillermusic.com/
DTSTAMP:20260421T172541Z
DESCRIPTION: https://ryanhillermusic.com/tour/event/111-farmer-the-seahorse
DTSTART:20191122T010000Z
DTEND:20191122T030000Z
LOCATION:Farmer & The Seahorse (10996 Torreyana Rd\, 240\, San Diego\, CA 9
 2121\, USA)
SUMMARY:Farmer & The Seahorse
URL:https://ryanhillermusic.com/tour/event/111-farmer-the-seahorse
END:VEVENT
END:VCALENDAR
