BEGIN:VCALENDAR
VERSION:2.0
PRODID:-//https://ryanhillermusic.com///NONSGML kigkonsult.se iCalcreator 2.10.15//
METHOD:PUBLISH
BEGIN:VEVENT
UID:20260423T072353PDT-1679oGSNlN@https://ryanhillermusic.com/
DTSTAMP:20260423T142353Z
DESCRIPTION: https://ryanhillermusic.com/tour/event/118-farmer-the-seahorse
DTSTART:20200117T000000Z
DTEND:20200117T020000Z
LOCATION:Farmer & The Seahorse (10996 Torreyana Rd\, 240\, San Diego\, CA 9
 2121\, USA)
SUMMARY:Farmer & The Seahorse
URL:https://ryanhillermusic.com/tour/event/118-farmer-the-seahorse
END:VEVENT
END:VCALENDAR
