BEGIN:VCALENDAR
VERSION:2.0
PRODID:-//https://ryanhillermusic.com///NONSGML kigkonsult.se iCalcreator 2.10.15//
METHOD:PUBLISH
BEGIN:VEVENT
UID:20260423T030559PDT-1482DF9Spo@https://ryanhillermusic.com/
DTSTAMP:20260423T100559Z
DESCRIPTION: https://ryanhillermusic.com/tour/event/121-lauberge
DTSTART:20200125T033000Z
DTEND:20200125T070000Z
LOCATION:L'Auberge (L'Auberge Del Mar\, Del Mar\, CA 92014\, USA)
SUMMARY:L'Auberge
URL:https://ryanhillermusic.com/tour/event/121-lauberge
END:VEVENT
END:VCALENDAR
