BEGIN:VCALENDAR
VERSION:2.0
PRODID:-//https://ryanhillermusic.com///NONSGML kigkonsult.se iCalcreator 2.10.15//
METHOD:PUBLISH
BEGIN:VEVENT
UID:20260421T103729PDT-4727U5UkTl@https://ryanhillermusic.com/
DTSTAMP:20260421T173729Z
DESCRIPTION: https://ryanhillermusic.com/tour/event/151-estancia
DTSTART:20200422T000000Z
DTEND:20200422T030000Z
LOCATION:Estancia (9700 N Torrey Pines Rd\, La Jolla\, CA 92037\, USA)
SUMMARY:Estancia
URL:https://ryanhillermusic.com/tour/event/151-estancia
END:VEVENT
END:VCALENDAR
