BEGIN:VCALENDAR
VERSION:2.0
PRODID:-//https://ryanhillermusic.com///NONSGML kigkonsult.se iCalcreator 2.10.15//
METHOD:PUBLISH
BEGIN:VEVENT
UID:20260421T072319PDT-39819MRnu7@https://ryanhillermusic.com/
DTSTAMP:20260421T142319Z
DESCRIPTION: https://ryanhillermusic.com/tour/event/156-international-smoke
DTSTART:20200426T180000Z
DTEND:20200426T210000Z
LOCATION:International Smoke (INTERNATIONAL SMOKE\, 3387 Del Mar Heights Ro
 ad\, Building 1 San Diego \, CA 92130)
SUMMARY:International Smoke
URL:https://ryanhillermusic.com/tour/event/156-international-smoke
END:VEVENT
END:VCALENDAR
