BEGIN:VCALENDAR
VERSION:2.0
PRODID:-//https://ryanhillermusic.com///NONSGML kigkonsult.se iCalcreator 2.10.15//
METHOD:PUBLISH
BEGIN:VEVENT
UID:20260419T223137PDT-2107H0d6OL@https://ryanhillermusic.com/
DTSTAMP:20260420T053137Z
DESCRIPTION: https://ryanhillermusic.com/tour/event/187-fairmont-grand-del-
 mar
DTSTART:20210410T000000Z
DTEND:20210410T030000Z
LOCATION:Fairmont Grand Del Mar (5300 Grand del Mar Ct San Diego CA 92130 U
 nited States)
SUMMARY:Fairmont Grand Del Mar
URL:https://ryanhillermusic.com/tour/event/187-fairmont-grand-del-mar
END:VEVENT
END:VCALENDAR
