BEGIN:VCALENDAR
VERSION:2.0
PRODID:-//https://ryanhillermusic.com///NONSGML kigkonsult.se iCalcreator 2.10.15//
METHOD:PUBLISH
BEGIN:VEVENT
UID:20260425T182753PDT-4200bSmgd4@https://ryanhillermusic.com/
DTSTAMP:20260426T012753Z
DESCRIPTION: https://ryanhillermusic.com/tour/event/284-waterbar
DTSTART:20231222T010000Z
DTEND:20231222T040000Z
LOCATION: ()
SUMMARY:Waterbar
URL:https://ryanhillermusic.com/tour/event/284-waterbar
END:VEVENT
END:VCALENDAR
