BEGIN:VCALENDAR
VERSION:2.0
PRODID:-//https://ryanhillermusic.com///NONSGML kigkonsult.se iCalcreator 2.10.15//
METHOD:PUBLISH
BEGIN:VEVENT
UID:20260421T223735PDT-0077218Euv@https://ryanhillermusic.com/
DTSTAMP:20260422T053735Z
DESCRIPTION: https://ryanhillermusic.com/tour/event/296-stella-lounge-eric-
 clapton-vip-pre-show
DTSTART:20241009T010000Z
DTEND:20241009T020000Z
LOCATION:stella (3500 Sports Arena Blvd\, San Diego\, California\, 92110)
SUMMARY:Stella Lounge - Eric Clapton VIP Pre Show
URL:https://ryanhillermusic.com/tour/event/296-stella-lounge-eric-clapton-v
 ip-pre-show
END:VEVENT
END:VCALENDAR
