BEGIN:VCALENDAR
VERSION:2.0
PRODID:-//https://ryanhillermusic.com///NONSGML kigkonsult.se iCalcreator 2.10.15//
METHOD:PUBLISH
BEGIN:VEVENT
UID:20260421T130028PDT-3241gOwIUv@https://ryanhillermusic.com/
DTSTAMP:20260421T200028Z
DESCRIPTION: https://ryanhillermusic.com/tour/event/310-tusks-at-mammoth
DTSTART:20250216T203000Z
DTEND:20250216T233000Z
LOCATION:Tusk's Bar (1 Minaret Rd\, Mammoth Lakes\, CA 93546)
SUMMARY:Tusk's at Mammoth 
URL:https://ryanhillermusic.com/tour/event/310-tusks-at-mammoth
END:VEVENT
END:VCALENDAR
