BEGIN:VCALENDAR
VERSION:2.0
PRODID:-//https://ryanhillermusic.com///NONSGML kigkonsult.se iCalcreator 2.10.15//
METHOD:PUBLISH
BEGIN:VEVENT
UID:20260423T101327PDT-0759n0Srdc@https://ryanhillermusic.com/
DTSTAMP:20260423T171327Z
DESCRIPTION: https://ryanhillermusic.com/tour/event/317-junkyard
DTSTART:20250419T010000Z
DTEND:20250419T040000Z
LOCATION:Junkyard (3617 Ocean Ranch Blvd\, Oceanside\, California\, 92056)
SUMMARY:Junkyard
URL:https://ryanhillermusic.com/tour/event/317-junkyard
END:VEVENT
END:VCALENDAR
