BEGIN:VCALENDAR
VERSION:2.0
PRODID:-//https://ryanhillermusic.com///NONSGML kigkonsult.se iCalcreator 2.10.15//
METHOD:PUBLISH
BEGIN:VEVENT
UID:20260420T022648PDT-2815m0K81R@https://ryanhillermusic.com/
DTSTAMP:20260420T092648Z
DESCRIPTION:Get your tickets HERE https://ryanhillermusic.com/tour/event/31
 9-belly-up
DTSTART:20250411T020000Z
DTEND:20250411T050000Z
LOCATION:Belly Up (143 S Cedros Ave\, Solana Beach\, CA 92075)
SUMMARY:Belly Up
URL:https://ryanhillermusic.com/tour/event/319-belly-up
END:VEVENT
END:VCALENDAR
