BEGIN:VCALENDAR
VERSION:2.0
PRODID:-//https://ryanhillermusic.com///NONSGML kigkonsult.se iCalcreator 2.10.15//
METHOD:PUBLISH
BEGIN:VEVENT
UID:20260424T005733PDT-870741GowW@https://ryanhillermusic.com/
DTSTAMP:20260424T075733Z
DESCRIPTION: https://ryanhillermusic.com/tour/event/84-us-grant
DTSTART:20190928T233000Z
DTEND:20190929T063000Z
LOCATION:US Grant (326 Broadway\, San Diego\, CA 92101)
SUMMARY:US Grant
URL:https://ryanhillermusic.com/tour/event/84-us-grant
END:VEVENT
END:VCALENDAR
