BEGIN:VCALENDAR
VERSION:2.0
PRODID:-//https://ryanhillermusic.com///NONSGML kigkonsult.se iCalcreator 2.10.15//
METHOD:PUBLISH
BEGIN:VEVENT
UID:20260425T185346PDT-85625UC6TK@https://ryanhillermusic.com/
DTSTAMP:20260426T015346Z
DESCRIPTION: https://ryanhillermusic.com/tour/event/359-union-kitchen-encin
 itas
DTSTART:20260524T020000Z
DTEND:20260524T050000Z
LOCATION:Union Encinitas (Union Kitchen & Tap\, 1108 S Coast Hwy 101\, Enci
 nitas\, CA 92024\, USA)
SUMMARY:Union Kitchen Encinitas
URL:https://ryanhillermusic.com/tour/event/359-union-kitchen-encinitas
END:VEVENT
BEGIN:VEVENT
UID:20260425T185346PDT-8564vlup63@https://ryanhillermusic.com/
DTSTAMP:20260426T015346Z
DESCRIPTION: https://ryanhillermusic.com/tour/event/360-university-club
DTSTART:20260531T000000Z
DTEND:20260531T030000Z
LOCATION:University Club ()
SUMMARY:University Club
URL:https://ryanhillermusic.com/tour/event/360-university-club
END:VEVENT
BEGIN:VEVENT
UID:20260425T185346PDT-85657fuOPS@https://ryanhillermusic.com/
DTSTAMP:20260426T015346Z
DESCRIPTION: https://ryanhillermusic.com/tour/event/361-waterbar
DTSTART:20260508T001500Z
DTEND:20260508T031500Z
LOCATION:Waterbar (4325 Ocean Blvd\, San Diego\, California\, 92109)
SUMMARY:Waterbar
URL:https://ryanhillermusic.com/tour/event/361-waterbar
END:VEVENT
BEGIN:VEVENT
UID:20260425T185346PDT-8565eUNEDR@https://ryanhillermusic.com/
DTSTAMP:20260426T015346Z
DESCRIPTION: https://ryanhillermusic.com/tour/event/362-waterbar
DTSTART:20260605T001500Z
DTEND:20260605T031500Z
LOCATION:Waterbar (4325 Ocean Blvd\, San Diego\, California\, 92109)
SUMMARY:Waterbar
URL:https://ryanhillermusic.com/tour/event/362-waterbar
END:VEVENT
BEGIN:VEVENT
UID:20260425T185346PDT-8566rGUfiT@https://ryanhillermusic.com/
DTSTAMP:20260426T015346Z
DESCRIPTION: https://ryanhillermusic.com/tour/event/363-university-club
DTSTART:20260607T000000Z
DTEND:20260607T030000Z
LOCATION:University Club ()
SUMMARY:University Club
URL:https://ryanhillermusic.com/tour/event/363-university-club
END:VEVENT
BEGIN:VEVENT
UID:20260425T185346PDT-85678xmvPH@https://ryanhillermusic.com/
DTSTAMP:20260426T015346Z
DESCRIPTION: https://ryanhillermusic.com/tour/event/364-junkyard
DTSTART:20260613T010000Z
DTEND:20260613T040000Z
LOCATION:Junkyard (3617 Ocean Ranch Blvd\, Oceanside\, California\, 92056)
SUMMARY:Junkyard
URL:https://ryanhillermusic.com/tour/event/364-junkyard
END:VEVENT
BEGIN:VEVENT
UID:20260425T185346PDT-8568b1cFu9@https://ryanhillermusic.com/
DTSTAMP:20260426T015346Z
DESCRIPTION: https://ryanhillermusic.com/tour/event/365-union-kitchen-encin
 itas
DTSTART:20260621T020000Z
DTEND:20260621T050000Z
LOCATION:Union Encinitas (Union Kitchen & Tap\, 1108 S Coast Hwy 101\, Enci
 nitas\, CA 92024\, USA)
SUMMARY:Union Kitchen Encinitas
URL:https://ryanhillermusic.com/tour/event/365-union-kitchen-encinitas
END:VEVENT
END:VCALENDAR
